BEGIN:VCALENDAR
VERSION:2.0
PRODID:icalendar-ruby
CALSCALE:GREGORIAN
METHOD:PUBLISH
BEGIN:VEVENT
DTSTAMP:20260420T101042Z
UID:5-904394@wrpc.church
DTSTART:20261011T160000Z
DTEND:20261011T170000Z
CLASS:PUBLIC
CREATED:20260420T012644
DESCRIPTION:Sunday Worship
LAST-MODIFIED:20260420T012644
LOCATION:
SUMMARY:Sunday Worship
URL;VALUE=URI:https://wrpc.church/events/sunday-worship/2026-10-11
END:VEVENT
END:VCALENDAR
