BEGIN:VCALENDAR
VERSION:2.0
PRODID:icalendar-ruby
CALSCALE:GREGORIAN
METHOD:PUBLISH
BEGIN:VEVENT
DTSTAMP:20260420T145526Z
UID:5-905155@wrpc.church
DTSTART:20261101T170000Z
DTEND:20261101T180000Z
CLASS:PUBLIC
CREATED:20260420T090048
DESCRIPTION:Sunday Worship
LAST-MODIFIED:20260420T090048
LOCATION:
SUMMARY:Sunday Worship
URL;VALUE=URI:https://wrpc.church/events/sunday-worship/2026-11-01
END:VEVENT
END:VCALENDAR
